Workbook

Sheet Phương án bà Pho 250 m2
A1: II/ Kết quả xét bồi thường, hỗ trợ, tái định cư:
A2: STT | B2: HỌ TÊN VÀ ĐỊA CHỈ (Nơi ở và nơi giải tỏa) | C2: GIẤY TỜ NGUỒN GỐC NHÀ ĐẤT | D2: NỘI DUNG BỒI THƯỜNG, HỖ TRỢ | E2: Đơn vị tính | F2: Khối lượng BT, HT | G2: Đơn giá (đồng) | H2: Mức BT, HT (%) | I2: THÀNH TIỀN (đồng) | J2: TỔNG TIỀN (đồng)
A3: 1 | B3: 2 | C3: 3 | D3: 4 | E3: 5 | F3: 6 | G3: 7 | H3: 8 | I3: 9 | J3: 10
A4: 1 | B4: Hộ ông Đặng Văn Sớm và bà Đinh Thị Gái - CCCD số 056057003887 cấp ngày 12/8/2021 do Cục CSQLHC về TTXH cấp cho ông Đặng Văn Sớm; - CCCD số 056159005769 cấp ngày 16/9/2021 do Cục CSQLHC về TTXH cấp cho bà Đinh Thị Gái - Địa chỉ thường trú: Tổ 17 Vĩnh Xuân, Vĩnh Thái, Nha Trang (nay là phường Nam Nha Trang) (không thuộc vị trí giải toả). - Số điện thoại: .... | C4: - Giấy xác nhận về thửa đất bị thu hồi để phục vụ cho công tác bồi thường, hỗ trợ, tái định cư khi Nhà nước thu hồi đất số 14055/GXN-KTHTĐT ngày 26/10/2026 của Phòng Kinh tế hạ tầng và đô thị phường Nam Nha Trang. | D4: I/ Về đất: | J4: =I29 -> 157436600
D5: - Tổng diện tích (Thửa 321/15) | E5: m² | F5: 351.6
D6: + DT đất giải tỏa: | E6: m² | F6: 351.6
D7: + DT đất còn lại: | E7: m² | F7: =SUM(F5-F6) -> 0
D8: * Tỷ lệ giải tỏa: | E8: % | F8: =F6/F5*100% -> 1
D10: 1. Không bồi thường về đất | E10: m² | F10: =F11 -> 143.9
C11: - Biên bản họp xác minh nguồn gốc nhà, đất ngày 24/10/2026; | D11: Phần diện tích đất: 163,5m² thuộc đất thủy lợi do Nhà nước quản lý theo hồ sơ địa chính 2015. | E11: m² | F11: 143.9 | G11: Căn cứ theo khoản 2 Điều 101 Luật Đất đai 2024 không bồi thường. Hộ gia đình có trách nhiệm bàn giao mặt bằng cho dự án
D13: 2. Bồi thường về Đất:
C14: - Biên bản điều tra, khảo sát, đo đạc, kiểm đếm ngày 07/10/2026 của TCT; | D14: * Cơ sở pháp lý áp dụng: - Điều 95, Điều 96, khoản 1 Điều 176 của Luật đất đai năm 2024; - Điều 3 Nghị Quyết số 254/2025/QH15 của Quốc Hội về việc quy định một số cơ chế, chính sách tháo gỡ khó khăn, vướng mắc trong tổ chức thi hành Luật Đất đai. - Điều 05, Điều 06, Điều 12 Nghị định 88/2024/NĐ-CP ngày 15/7/ 2024 của Chính phủ quy định về bồi thường, hỗ trợ và tái định cư khi Nhà nước thu hồi đất.
D22: - Quyết định số 36/QĐ-UBND ngày 09/7/2025 của Chủ tịch UBND phường Nam Nha Trang về việc phê duyệt giá đất cụ thể để tính bồi thường khi Nhà nước thu hồi đất để thực hiện dự án Khu đô thị hỗn hợp thành phố Nha Trang. - Văn bản số 4323/UBND-VP ngày 21/7/2026 của UBND phường Nam Nha Trang về việc triển khai áp dụng giá đất để tính bồi thường các dự án trên địa phưởng Nam Nha Trang.
D29: - Bồi thường đất nuôi trồng thủy sản | E29: m² | F29: =F6-F10 -> 207.7 | G29: 758000 | H29: 1 | I29: =F29*G29*H29 -> 157436600
D30: Đơn giá đất cụ thể khi Nhà nước thu hồi đất thực hiện dự án Khu đô thị hỗn hợp thành phố Nha Trang: 758.000 đ/m².
D31: 2- Bồi thường chi phí đầu tư vào đất
D32: - Ao đìa, chiều sâu đào đất sâu 1,5m. | G32: Căn cứ Điều 107 Luật Đất đai 2024: Không bồi thường chi phí đầu tư vào đất do đã được bồi thường về đất.
D34: II/ Tài sản gắn liền với đất: | J34: =I35+I37 -> 208000
D35: 1- Công trình, vật kiến trúc: | I35: 0
D36: - Không có
D37: 2/ Cây trồng. | I37: =I45 -> 208000
D38: * Căn cứ Điều 103 Luật đất đai năm 2024
D39: - Đơn giá bồi thường, hỗ trợ thiệt hại đối với cây trồng, vật nuôi khi Nhà nước thu hồi đất trên địa bàn tỉnh Khánh Hoà áp dụng theo Quyết định số 35/2026/QĐ-UBND ngày 29/4/2026 của UBND tỉnh Khánh Hòa. - Căn cứ Thông báo số 4004/TB-UBND ngày 8/7/2026 của UBND phường Nam Nha Trang.
D45: Keo lá tràm 3 năm | E45: cây | F45: 4 | G45: 52000 | H45: 1 | I45: =F45*G45*H45 -> 208000
D47: III/ Chính sách hỗ trợ (1+2+3): | J47: =I62 -> 67294800
D48: 1- Hỗ trợ ổn định đời sống: | F48: Không hỗ trợ do đã được hỗ trợ tại thửa 71 tờ 8
D50: 2- Hỗ trợ đào tạo, chuyển đổi nghề, tìm kiếm việc làm:
D51: * Áp dụng khoản 1 Điều 13 Quyết định số 17/2024/QĐ-UBND ngày 29/8/2024 của UBND tỉnh Khánh Hòa - Văn bản số 1718/UBND-VP ngày 21/10/2025 của UBND phường Nam Nha Trang
D55: * Giá đất được áp dụng tại Nghị quyết số 15/2025/NQ-HĐND ngày 18/01/2026 của HĐND tỉnh Khánh Hòa - Hỗ trợ chuyển đổi nghề nghiệp và tạo việc làm tính theo diện tích giải tỏa. Mức hỗ trợ bằng (03) lần giá đất nông nghiệp trong Bảng giá đất hiện hành của tỉnh Khánh Hòa , đơn giá: 108.000đ/m² x 3 lần = 324.000đ/m².
D62: Diện tích tính hỗ trợ: 207,7m² | E62: m² | F62: =F29 -> 207.7 | G62: 324000 | H62: 1 | I62: =F62*G62*H62 -> 67294800
D63: IV/ Tái định cư:
D64: - Căn cứ Khoản 4, Khoản 5 Điều 111 Luật Đất đai năm 2024. | F64: Hộ gia đình không đủ điều kiện giải quyết tái định cư do không bị thu hồi đất ở và không phải di chuyển chỗ ở.
A68: * Tổng số tiền bồi thường, hỗ trợ: | J68: =J4+J34+J47 -> 224939400
A70: 2 | B70: Hộ ông Đặng Văn Nhiều và bà Trương Thị Tình tự kê khai - CCCD số 056068004456 ngày 05/05/2023 do Cục CSQLHC về TTXH cấp cho ông Đặng Văn Nhiều - CCCD số 056165000978 cấp ngày 22/4/2021 do Cục CSQLHC về TTXH cấp cho bà Trương Thị Tình. - Địa chỉ thường trú: Tổ 18 Vĩnh Xuân, Vĩnh Thái, Nha Trang (nay là phường Nam Nha Trang) (không thuộc vị trí giải tỏa). - Địa chỉ thửa đất giải tỏa: Tổ dân phố Vĩnh Xuân, phường Nam Nha Trang, tỉnh Khánh Hòa. - Số điện thoại: ... | C70: - Giấy xác nhận về thửa đất bị thu hồi để phục vụ cho công tác bồi thường, hỗ trợ, tái định cư khi Nhà nước thu hồi đất số 14056/GXN-KTHTĐT ngày 26/10/2026 của Phòng Kinh tế Hạ tầng Đô thị phường Nam Nha Trang; | D70: I/ Về đất: | J70: =SUM(I73:I79) -> 0
D71: - Tổng diện tích (Thửa 322/tờ 15) | E71: m² | F71: 2807.4
D72: + DT đất giải tỏa: | E72: m² | F72: 2807.4
D73: + DT đất còn lại: | E73: m² | F73: =SUM(F71-F72) -> 0
D74: + Tỷ lệ giải toả: | E74: % | F74: =F72/F71*100% -> 1
D76: - Không bồi thường về đất:
D77: - Đất có nguồn gốc thuộc Đất thủy lợi do Nhà nước quản lý | E77: m² | F77: =F72 -> 2807.4 | G77: Căn cứ theo khoản 2 Điều 101 Luật Đất đai 2024 không bồi thường. Hộ gia đình có trách nhiệm bàn giao mặt bằng.
...

Sheet BTH 250m2
A1: BẢNG TỔNG HỢP
A2: DỰ ÁN: KHU ĐÔ THỊ HỖN HỢP THÀNH PHỐ NHA TRANG
A3: Địa điểm: xã Phước Đồng, xã Vĩnh Thái, phường Phước Long, phường Phước Hải, thành phố Nha Trang
A5: STT | B5: Họ và tên | C5: Thửa | D5: TỜ BĐTĐ | E5: TỔNG DT | F5: DIỆN TÍCH ĐẤT THU HỒI (m²) | J5: Số tiền bồi thường, hỗ trợ (đồng) | O5: Tổng số tiền BT, HT | P5: Khen thưởng | Q5: Tái định cư
F6: Tổng diện tích thu hồi | G6: Đất ở | H6: Đất nông nghiệp | I6: Đất do Nhà nước quản lý | J6: BT,HT về đất | K6: BT, HT về tài sản | L6: BT,HT về cây trồng | M6: Bồi thường chi phí di chuyển tài sản | N6: BT, HT khác | O6: (đồng)
A7: 1 | B7: Hộ ông Đặng Văn Sớm và bà Đinh Thị Gái | C7: 321 | D7: 15 | E7: ='Phương án bà Pho 250 m2'!F5 -> 351.6 | F7: ='Phương án bà Pho 250 m2'!F6 -> 351.6 | G7: 0 | H7: ='Phương án bà Pho 250 m2'!F29 -> 207.7 | I7: ='Phương án bà Pho 250 m2'!F10 -> 143.9 | J7: ='Phương án bà Pho 250 m2'!J4 -> 157436600 | K7: ='Phương án bà Pho 250 m2'!I35 -> 0 | L7: ='Phương án bà Pho 250 m2'!I37 -> 208000 | M7: 0 | N7: ='Phương án bà Pho 250 m2'!J47 -> 67294800 | O7: =SUM(J7:N7) -> 224939400 | P7: 0 | Q7: Không đủ điều kiện bố trí TĐC
A8: 2 | B8: Hộ ông Đặng Văn Nhiều và bà Trương Thị Tình tự kê khai | C8: 322 | D8: 15 | E8: ='Phương án bà Pho 250 m2'!F71 -> 2807.4 | F8: ='Phương án bà Pho 250 m2'!F72 -> 2807.4 | G8: 0 | H8: ='Phương án bà Pho 250 m2'!F75 -> 0 | I8: ='Phương án bà Pho 250 m2'!F77 -> 2807.4 | J8: ='Phương án bà Pho 250 m2'!J70 -> 0 | K8: ='Phương án bà Pho 250 m2'!I81 -> 0 | L8: ='Phương án bà Pho 250 m2'!I83 -> 0 | M8: 0 | N8: ='Phương án bà Pho 250 m2'!H88 -> 0 | O8: =SUM(J8:N8) -> 0 | P8: 0 | Q8: Không đủ điều kiện bố trí TĐC
A9: 3 | B9: Hộ ông Phan Thanh Hùng và bà Đinh Thị Thu | C9: 35 + 171 | D9: 15 | E9: ='Phương án bà Pho 250 m2'!F101 -> 8244.8 | F9: ='Phương án bà Pho 250 m2'!F102 -> 8244.8 | G9: 0 | H9: ='Phương án bà Pho 250 m2'!F126 -> 8221.6 | I9: ='Phương án bà Pho 250 m2'!F106 -> 23.2 | J9: ='Phương án bà Pho 250 m2'!J94 -> 6.2319728e+09 | K9: ='Phương án bà Pho 250 m2'!I133 -> 5.7095339e+08 | L9: ='Phương án bà Pho 250 m2'!I192 -> 1305000 | M9: =0 -> 0 | N9: ='Phương án bà Pho 250 m2'!J214 -> 2.6686361e+09 | O9: =SUM(J9:N9) -> 9.4728673e+09 | P9: 0 | Q9: Không đủ điều kiện bố trí TĐC
A10: 4 | B10: Hộ ông Nguyễn Bàng (chết) và bà Tô Thị Pho | C10: 343 | D10: 15 | E10: ='Phương án bà Pho 250 m2'!F249 -> 5065.1 | F10: ='Phương án bà Pho 250 m2'!F250 -> 5065.1 | G10: ='Phương án bà Pho 250 m2'!F280 -> 250 | H10: ='Phương án bà Pho 250 m2'!F292 -> 4665.7 | I10: ='Phương án bà Pho 250 m2'!F253 -> 149.4 | J10: ='Phương án bà Pho 250 m2'!J248 -> 3.7579277e+09 | K10: ='Phương án bà Pho 250 m2'!I297 -> 1.1263132e+09 | L10: ='Phương án bà Pho 250 m2'!I521 -> 145467000 | M10: ='Phương án bà Pho 250 m2'!J667 -> 10000000 | N10: ='Phương án bà Pho 250 m2'!J629 -> 1.5808622e+09 | O10: =SUM(J10:N10) -> 6.6205701e+09 | P10: ='Phương án bà Pho 250 m2'!J706 -> 8000000 | Q10: Đủ điều kiện bố trí TĐC
A11: 5 | B11: Hộ ông Nguyễn Văn Bảy và bà Đặng Thị Sáng | C11: 74 | D11: 45 | E11: ='Phương án bà Pho 250 m2'!F717 -> 4262.8 | F11: ='Phương án bà Pho 250 m2'!F718 -> 3746.6 | G11: ='Phương án bà Pho 250 m2'!F748 -> 250 | H11: ='Phương án bà Pho 250 m2'!F762 -> 3117.6 | I11: ='Phương án bà Pho 250 m2'!F721 -> 379 | J11: ='Phương án bà Pho 250 m2'!J716 -> 3037040800 | K11: ='Phương án bà Pho 250 m2'!I770 -> 5.8783359e+08 | L11: ='Phương án bà Pho 250 m2'!I821 -> 14243000 | M11: ='Phương án bà Pho 250 m2'!J884 -> 10000000 | N11: ='Phương án bà Pho 250 m2'!J845 -> 1064453120 | O11: =SUM(J11:N11) -> 4.7135705e+09 | P11: ='Phương án bà Pho 250 m2'!J897 -> 8000000 | Q11: Đủ điều kiện bố trí TĐC
A12: 6 | B12: Hộ ông Lương Quang Hà | C12: 258 | D12: 15 | E12: ='Phương án bà Pho 250 m2'!F912 -> 150.3 | F12: ='Phương án bà Pho 250 m2'!F913 -> 150.3 | G12: 0 | H12: ='Phương án bà Pho 250 m2'!F934 -> 150.3 | I12: 0 | J12: ='Phương án bà Pho 250 m2'!J911 -> 99348300 | K12: ='Phương án bà Pho 250 m2'!I939 -> 27807725 | L12: ='Phương án bà Pho 250 m2'!I960 -> 2252000 | M12: 0 | N12: ='Phương án bà Pho 250 m2'!J975 -> 29186280 | O12: ='Phương án bà Pho 250 m2'!J1002 -> 1.5859431e+08 | P12: 0 | Q12: Không đủ điều kiện bố trí TĐC
B13: Tổng | C13: 06 trường hợp/ 07 thửa đất | E13: =SUM(E7:E12) -> 20882 | F13: =SUM(F7:F12) -> 20365.8 | G13: =SUM(G7:G12) -> 500 | H13: =SUM(H7:H12) -> 16362.9 | I13: =SUM(I7:I12) -> 3502.9 | J13: =SUM(J7:J12) -> 13283726200 | K13: =SUM(K7:K12) -> 2.3129079e+09 | L13: =SUM(L7:L12) -> 163475000 | ... P13: =SUM(P7:P12) -> 16000000
B15: 1/ Số trường hợp bị giải tỏa: | G15: 06 trường hợp/07 thửa đất
B16: 2/ Kinh phí bồi thường, hỗ trợ, tái định cư: | F16: =O13 -> 2.1190542e+10 | H16: đồng
B17: 3/ Chi phí thực hiện bồi thường, hỗ trợ (3%): | F17: =F16*3% -> 6.3571625e+08 | H17: đồng
B18: 4/ Tổng kinh phí bồi thường, hỗ trợ: | F18: =F16+F17 -> 2.1826258e+10 | H18: đồng
B19: 5/ Kinh phí khen thưởng: | F19: =P13 -> 16000000 | H19: đồng
B20: 6/ Tổng kinh phí bồi thường, hỗ trợ và khen thưởng: | F20: =SUM(E18:G19) -> 2.1842258e+10 | H20: đồng | S20: 1399703161
K22: Nam Nha Trang, ngày tháng năm 2026
K23: BAN QUẢN LÝ DỰ ÁN VÀ PHÁT TRIỂN QUỸ ĐẤT
A24: NGƯỜI LẬP PHƯƠNG ÁN | F24: PHÓ TRƯỞNG PHÒNG | K24: GIÁM ĐỐC
A31: NGUYỄN KHÁNH NHIÊN | F31: NGUYỄN KHÁNH HƯNG | K31: NGUYỄN HOÀNG LƯƠNG

Sheet Sheet2

Sheet BTH
