Workbook

Sheet Phương án bà Pho 250 m2
A1: II/ Kết quả xét bồi thường, hỗ trợ, tái định cư:
A2: STT | B2: HỌ TÊN VÀ ĐỊA CHỈ (Nơi ở và nơi giải tỏa) | C2: GIẤY TỜ NGUỒN GỐC NHÀ ĐẤT | D2: NỘI DUNG BỒI THƯỜNG, HỖ TRỢ | E2: Đơn vị tính | F2: Khối lượng BT, HT | G2: Đơn giá (đồng) | H2: Mức BT, HT (%) | I2: THÀNH TIỀN (đồng) | J2: TỔNG TIỀN (đồng)
A3: 1 | B3: 2 | C3: 3 | D3: 4 | E3: 5 | F3: 6 | G3: 7 | H3: 8 | I3: 9 | J3: 10
A4: 1 | B4: Hộ ông Đặng Văn Sớm và bà Đinh Thị Gái - CCCD số 056057003887 cấp ngày 12/8/2021 do Cục CSQLHC về TTXH cấp cho ông Đặng Văn Sớm; - CCCD số 056159005769 cấp ngày 16/9/2021 do Cục CSQLHC về TTXH cấp cho bà Đinh Thị Gái - Địa chỉ thường trú: Tổ 17 Vĩnh Xuân, Vĩnh Thái, Nha Trang (nay là phường Nam Nha Trang) (không thuộc vị trí giải toả). - Số điện thoại: .... | C4: - Giấy xác nhận về thửa đất bị thu hồi để phục vụ cho công tác bồi thường, hỗ trợ, tái định cư khi Nhà nước thu hồi đất số 14055/GXN-KTHTĐT ngày 26/10/2026 của Phòng Kinh tế hạ tầng và đô thị phường Nam Nha Trang. | D4: I/ Về đất: | J4: =I29 -> 157436600
D5: - Tổng diện tích (Thửa 321/15) | E5: m² | F5: 351.6
D6: + DT đất giải tỏa: | E6: m² | F6: 351.6
D7: + DT đất còn lại: | E7: m² | F7: =SUM(F5-F6) -> 0
D8: * Tỷ lệ giải tỏa: | E8: % | F8: =F6/F5*100% -> 1
D10: 1. Không bồi thường về đất | E10: m² | F10: =F11 -> 143.9
C11: - Biên bản họp xác minh nguồn gốc nhà, đất ngày 24/10/2026; | D11: Phần diện tích đất: 163,5m² thuộc đất thủy lợi do Nhà nước quản lý theo hồ sơ địa chính 2015. | E11: m² | F11: 143.9 | G11: Căn cứ theo khoản 2 Điều 101 Luật Đất đai 2024 không bồi thường. Hộ gia đình có trách nhiệm bàn giao mặt bằng cho dự án
D13: 2. Bồi thường về Đất:
C14: - Biên bản điều tra, khảo sát, đo đạc, kiểm đếm ngày 07/10/2026 của TCT; | D14: * Cơ sở pháp lý áp dụng: - Điều 95, Điều 96, khoản 1 Điều 176 của Luật đất đai năm 2024; - Điều 3 Nghị Quyết số 254/2025/QH15 của Quốc Hội về việc quy định một số cơ chế, chính sách tháo gỡ khó khăn, vướng mắc trong tổ chức thi hành Luật Đất đai. - Điều 05, Điều 06, Điều 12 Nghị định 88/2024/NĐ-CP ngày 15/7/ 2024 của Chính phủ quy định về bồi thường, hỗ trợ và tái định cư khi Nhà nước thu hồi đất.
D22: - Quyết định số 36/QĐ-UBND ngày 09/7/2025 của Chủ tịch UBND phường Nam Nha Trang về việc phê duyệt giá đất cụ thể để tính bồi thường khi Nhà nước thu hồi đất để thực hiện dự án Khu đô thị hỗn hợp thành phố Nha Trang. - Văn bản số 4323/UBND-VP ngày 21/7/2026 của UBND phường Nam Nha Trang về việc triển khai áp dụng giá đất để tính bồi thường các dự án trên địa phưởng Nam Nha Trang.
D29: - Bồi thường đất nuôi trồng thủy sản | E29: m² | F29: =F6-F10 -> 207.7 | G29: 758000 | H29: 1 | I29: =F29*G29*H29 -> 157436600
D30: Đơn giá đất cụ thể khi Nhà nước thu hồi đất thực hiện dự án Khu đô thị hỗn hợp thành phố Nha Trang: 758.000 đ/m².
D31: 2- Bồi thường chi phí đầu tư vào đất
D32: - Ao đìa, chiều sâu đào đất sâu 1,5m. | G32: Căn cứ Điều 107 Luật Đất đai 2024: Không bồi thường chi phí đầu tư vào đất do đã được bồi thường về đất.
D34: II/ Tài sản gắn liền với đất: | J34: =I35+I37 -> 208000
D35: 1- Công trình, vật kiến trúc: | I35: 0
D36: - Không có
D37: 2/ Cây trồng. | I37: =I45 -> 208000
D38: * Căn cứ Điều 103 Luật đất đai năm 2024
D39: - Đơn giá bồi thường, hỗ trợ thiệt hại đối với cây trồng, vật nuôi khi Nhà nước thu hồi đất trên địa bàn tỉnh Khánh Hoà áp dụng theo Quyết định số 35/2026/QĐ-UBND ngày 29/4/2026 của UBND tỉnh Khánh Hòa. - Căn cứ Thông báo số 4004/TB-UBND ngày 8/7/2026 của UBND phường Nam Nha Trang.
D45: Keo lá tràm 3 năm | E45: cây | F45: 4 | G45: 52000 | H45: 1 | I45: =F45*G45*H45 -> 208000
D47: III/ Chính sách hỗ trợ (1+2+3): | J47: =I62 -> 67294800
D48: 1- Hỗ trợ ổn định đời sống: | F48: Không hỗ trợ do đã được hỗ trợ tại thửa 71 tờ 8
D50: 2- Hỗ trợ đào tạo, chuyển đổi nghề, tìm kiếm việc làm:
D51: * Áp dụng khoản 1 Điều 13 Quyết định số 17/2024/QĐ-UBND ngày 29/8/2024 của UBND tỉnh Khánh Hòa - Văn bản số 1718/UBND-VP ngày 21/10/2025 của UBND phường Nam Nha Trang
D55: * Giá đất được áp dụng tại Nghị quyết số 15/2025/NQ-HĐND ngày 18/01/2026 của HĐND tỉnh Khánh Hòa - Hỗ trợ chuyển đổi nghề nghiệp và tạo việc làm tính theo diện tích giải tỏa. Mức hỗ trợ bằng (03) lần giá đất nông nghiệp trong Bảng giá đất hiện hành của tỉnh Khánh Hòa , đơn giá: 108.000đ/m² x 3 lần = 324.000đ/m².
D62: Diện tích tính hỗ trợ: 207,7m² | E62: m² | F62: =F29 -> 207.7 | G62: 324000 | H62: 1 | I62: =F62*G62*H62 -> 67294800
D63: IV/ Tái định cư:
D64: - Căn cứ Khoản 4, Khoản 5 Điều 111 Luật Đất đai năm 2024. | F64: Hộ gia đình không đủ điều kiện giải quyết tái định cư do không bị thu hồi đất ở và không phải di chuyển chỗ ở.
A68: * Tổng số tiền bồi thường, hỗ trợ: | J68: =J4+J34+J47 -> 224939400
A70: 2 | B70: Hộ ông Đặng Văn Nhiều và bà Trương Thị Tình tự kê khai - CCCD số 056068004456 ngày 05/05/2023 do Cục CSQLHC về TTXH cấp cho ông Đặng Văn Nhiều - CCCD số 056165000978 cấp ngày 22/4/2021 do Cục CSQLHC về TTXH cấp cho bà Trương Thị Tình. - Địa chỉ thường trú: Tổ 18 Vĩnh Xuân, Vĩnh Thái, Nha Trang (nay là phường Nam Nha Trang) (không thuộc vị trí giải tỏa). - Địa chỉ thửa đất giải tỏa: Tổ dân phố Vĩnh Xuân, phường Nam Nha Trang, tỉnh Khánh Hòa. - Số điện thoại: ... | C70: - Giấy xác nhận về thửa đất bị thu hồi để phục vụ cho công tác bồi thường, hỗ trợ, tái định cư khi Nhà nước thu hồi đất số 14056/GXN-KTHTĐT ngày 26/10/2026 của Phòng Kinh tế Hạ tầng Đô thị phường Nam Nha Trang; | D70: I/ Về đất: | J70: =SUM(I73:I79) -> 0
D71: - Tổng diện tích (Thửa 322/tờ 15) | E71: m² | F71: 2807.4
D72: + DT đất giải tỏa: | E72: m² | F72: 2807.4
D73: + DT đất còn lại: | E73: m² | F73: =SUM(F71-F72) -> 0
D74: + Tỷ lệ giải toả: | E74: % | F74: =F72/F71*100% -> 1
D76: - Không bồi thường về đất:
D77: - Đất có nguồn gốc thuộc Đất thủy lợi do Nhà nước quản lý | E77: m² | F77: =F72 -> 2807.4 | G77: Căn cứ theo khoản 2 Điều 101 Luật Đất đai 2024 không bồi thường. Hộ gia đình có trách nhiệm bàn giao mặt bằng.
D80: II/ Tài sản gắn liền với đất: | J80: =I81+I83 -> 0
D81: 1- Công trình, vật kiến trúc: | I81: 0
D83: 2- Cây trồng. | I83: 0
D84: - Không có
D85: III/ Chính sách hỗ trợ (1 + 2 ): | F85: Không hỗ trợ do không đủ điều kiện bồi thường về đất
D86: 1- Hỗ trợ ổn định đời sống:
D87: 2- Hỗ trợ đào tạo, chuyển đổi nghề, tìm kiếm việc làm:
D88: IV/ Tái định cư:
D89: * Cơ sở pháp lý áp dụng: | F89: Hộ gia đình không đủ điều kiện giải quyết tái định cư do không đủ điều kiện bồi thường về đất
D90: - Căn cứ Khoản 4, Khoản 5 Điều 111 Luật Đất đai năm 2024.
A92: * Tổng số tiền bồi thường, hỗ trợ: | J92: =SUM(J70:J88) -> 0
A94: 3 | B94: Hộ ông Phan Thanh Hùng và bà Đinh Thị Thu - CCCD số 056069001435 ngày 28/4/2021 do Cục CSQLHC về TTXH cấp cho ông Phan Thanh Hùng; - CCCD số 037183013026 ngày 14/8/2021 do Cục CSQLHC về TTXH cấp cho bà Đinh Thị Thu; - Địa chỉ thường trú: 18B đường Lê Hồng Phong, phường Nam Nha Trang, tỉnh Khánh Hòa (không thuộc vị trí giải toả) - Địa chỉ thửa đất giải tỏa: Tổ dân phố Vĩnh Xuân, phường Nam Nha Trang, tỉnh Khánh Hòa - Số điện thoại: 0903525043 | C94: - Giấy xác nhận về thửa đất bị thu hồi để phục vụ cho công tác bồi thường, hỗ trợ, tái định cư khi Nhà nước thu hồi đất số 14057/GXN-KTHTĐT ngày 26/10/2026 của Phòng Kinh tế Hạ tầng Đô thị phường Nam Nha Trang; | D94: I/ Về đất: | J94: =I126 -> 6.2319728e+09
D95: - Tổng diện tích (Thửa 35/15) | E95: m² | F95: 6140.9
D96: + DT đất giải tỏa: | E96: m² | F96: 6140.9
D97: + DT đất còn lại: | E97: m² | F97: =F95-F96 -> 0
D98: - Tổng diện tích (Thửa 171/15) | E98: m² | F98: 2103.9
D99: + DT đất giải tỏa: | E99: m² | F99: 2103.9
C100: - Biên bản họp xác minh nguồn gốc nhà, đất ngày 01/10/2026; | D100: + DT đất còn lại: | E100: m² | F100: =SUM(F98-F99) -> 0
D101: - Tổng diện tích (thửa 35 + 171/15) | E101: m² | F101: =F95+F98 -> 8244.8
C102: - Biên bản kiểm kê khối lượng giải tỏa ngày 05/12/2025 của Tổ công tác; | D102: + Tổng DT đất giải tỏa: | E102: m² | F102: =F96+F99 -> 8244.8
D103: + Tổng DT đất còn lại: | E103: m² | F103: =F101-F102 -> 0
D104: - Tỷ lệ giải tỏa | E104: % | F104: =F102/F101*100% -> 1
D106: 1- Không bồi thường về đất | E106: m² | F106: 23.2 | G106: Căn cứ theo khoản 2 Điều 101 Luật Đất đai 2024 không bồi thường. Hộ gia đình có trách nhiệm bàn giao mặt bằng.
D107: - Diện tích 23,2m2 thuộc đất thủy lợi do Nhà nước quản lý theo hồ sơ địa chính năm 2015
D110: 2- Bồi thường về Đất:
D111: * Cơ sở pháp lý áp dụng: - Điều 95, Điều 96, khoản 1 Điều 176 của Luật đất đai năm 2024; - Điều 3 Nghị Quyết số 254/2025/QH15 của Quốc Hội về việc quy định một số cơ chế, chính sách tháo gỡ khó khăn, vướng mắc trong tổ chức thi hành Luật Đất đai. - Điều 05, Điều 06, Điều 12 Nghị định 88/2024/NĐ-CP ngày 15/7/ 2024 của Chính phủ quy định về bồi thường, hỗ trợ và tái định cư khi Nhà nước thu hồi đất.
D119: - Quyết định số 36/QĐ-UBND ngày 09/7/2025 của Chủ tịch UBND phường Nam Nha Trang về việc phê duyệt giá đất cụ thể để tính bồi thường khi Nhà nước thu hồi đất để thực hiện dự án Khu đô thị hỗn hợp thành phố Nha Trang. - Văn bản số 4323/UBND-VP ngày 21/7/2026 của UBND phường Nam Nha Trang về việc triển khai áp dụng giá đất để tính bồi thường các dự án trên địa phưởng Nam Nha Trang.
D126: - Bồi thường đất nuôi trồng thủy sản | E126: m² | F126: =F102-F106 -> 8221.6 | G126: 758000 | H126: 1 | I126: =F126*G126*H126 -> 6.2319728e+09
D127: Đơn giá đất cụ thể khi Nhà nước thu hồi đất thực hiện dự án Khu đô thị hỗn hợp thành phố Nha Trang: 758.000 đ/m².
D128: 3- Bồi thường chi phí đầu tư vào đất:
D129: * Thửa 171/15: Ao đìa, chiều sâu đào đất sâu 1,5m. | E129: m² | F129: Căn cứ Điều 107 Luật Đất đai 2024: Không bồi thường chi phí đầu tư vào đất do đã được bồi thường về đất.
D130: * Thửa 35/15: Ao đìa, chiều sâu đào đất sâu 1,5m.
D132: II/ Tài sản gắn liền với đất: | J132: =I133+I192 -> 5.7225839e+08
D133: 1- Công trình, vật kiến trúc: | I133: =SUM(I143:I191) -> 5.7095339e+08
D134: * Căn cứ Điều 102, 105 Luật đất đai năm 2024, Điều 14 Nghị định số 88/2024/NĐ-CP ngày 15/7/2024 của Chính phủ, Điều 5 Quyết định số 17/2024/QĐ-UBND ngày 29/8/2024 của UBND tỉnh Khánh Hòa
D137: * Đơn giá áp dụng theo Quyết định số 08/2026/QĐ-UBND ngày 22/01/2026 và Quyết định số 12/2026/QĐ-UBND ngày 24/02/2026 của UBND tỉnh Khánh Hòa; Văn bản số 2093/SXD-KTVLXD ngày 05/03/2026 của Sở Xây dựng.
D142: * Thửa 171/15
D143: - Nhà 1 tầng, móng xây đá chẻ, tường xây gạch dày 100, tường sơn nước, nền láng xi măng, cừa sắt, không trần, mái lợp tôn. DT: 5 x 6,5 = 32,50 m² | E143: m²XD | F143: =5*6.5 -> 32.5 | G143: =3958967*(1.12-0) -> 4434043 | H143: 1 | I143: =H143*G143*F143 -> 1.441064e+08
D145: Áp dụng Stt 02, Mục A, Quyết định số 08/2026/QĐ-UBND ngày 22/01/2026, đơn giá: 3.958.967 đ/m² XD. Điều chỉnh đơn giá với hệ số 1,12 do tường sơn nước; điều chỉnh tăng 8,5% do cửa sắt và giảm 8,5% do không trần quy định tại điểm 1 và điểm 12 , Phụ lục của Văn bản số 2093/SXD-KTVLXD ngày 05/03/2026 của Sở Xây dựng, đơn giá bồi thường: 3.958.967 x (1,12 - 0) = 4.434.043 đ/m² XD.
D152: - Mái che kèo gỗ tiêu chuẩn, trụ gạch, mái lợp tôn, nền xi măng, không vách. DT: 2 x 5 = 10 m² | E152: m²XD | F152: =2*5 -> 10 | G152: 741439 | H152: 1 | I152: =H152*G152*F152 -> 7414390
D153: Áp dụng Stt 03, Mục C, Quyết định số 08/2026/QĐ-UBND ngày 22/01/2026, đơn giá: 741.439 đ/m² XD.
D155: - Thổ kỳ móng xây đá chẻ, nền xi măng, tường xây gạch 100, mái đúc bê tông kích thước mái 750x750, tường quét vôi | E155: cấu kiện | F155: 1 | G155: 2288897 | H155: 1 | I155: =H155*G155*F155 -> 2288897
D156: Áp dụng Stt 79, Mục C, Quyết định số 08/2026/QĐ-UBND ngày 22/01/2026, đơn giá: 741.439 đ/m² XD.
D158: - Bể chứa nước xây gạch dày 100, nền bê tông, đá 1x2. KT: 1,3 x 1,3 x 3,1 = 5,24 m³ | E158: m³ | F158: =1.3*1.3*3.1 -> 5.239 | G158: =3256300*(1-0.085) -> 2979514.5 | H158: 1 | I158: =H158*G158*F158 -> 15609676
D159: Áp dụng Stt 72, Mục C, Quyết định số 08/2026/QĐ-UBND ngày 22/01/2026, đơn giá: 3.256.300 đ/m³. Điều chỉnh giảm 8,5% do xây gạch dày 100 quy định tại điểm 12 , Phụ lục của Văn bản số 2093/SXD-KTVLXD ngày 05/03/2026 của Sở Xây dựng, đơn giá bồi thường: 3.256.300 x (1 - 0,085) = 2.979.515 đ/m³.
D164: - Giếng khoan phi 90 sâu 30m, 5 cái | E164: m sâu | F164: =30*5 -> 150 | G164: 1016519 | H164: 1 | I164: =H164*G164*F164 -> 152477850
D165: Áp dụng Stt 29, Mục C, Quyết định số 08/2026/QĐ-UBND ngày 22/01/2026, đơn giá: 1.016.519 đ/m sâu.
D167: - Nhà vệ sinh độc lập có hầm tự hoại, vách tôn, mái lợp tôn, cửa tôn, nền xi măng. DT: 1,6 x 2,4 = 3,84m² | E167: m²XD | F167: =1.6*2.4 -> 3.84 | G167: 6960234 | H167: 1 | I167: =H167*G167*F167 -> 26727299
D168: Áp dụng Stt 07, Mục C, Quyết định số 08/2026/QĐ-UBND ngày 22/01/2026, đơn giá: 6.960.234 đ/m²XD.
D170: * Thửa 35/15
D171: - Kè BTCT. KT: (4,1 x 0,1 x 3) x 2 = 2,46m³ | E171: m³ | F171: =(4.1*0.1*3)*2 -> 2.46 | G171: 3975098 | H171: 1 | I171: =H171*G171*F171 -> 9778741.1
D172: Áp dụng Stt 49, Mục C, Quyết định số 08/2026/QĐ-UBND ngày 22/01/2026, đơn giá: 3.975.098 đ/m³.
D174: - Đan BTCT đổ tại chỗ, đá 1x2. KT: 47,15 x 4 x 0,1 = 18,86 m³ | E174: m³ | F174: =47.15*4*0.1 -> 18.86 | G174: 5013227 | H174: 1 | I174: =H174*G174*F174 -> 94549461
D175: Áp dụng Stt 59, Mục C, Quyết định số 08/2026/QĐ-UBND ngày 22/01/2026, đơn giá: 5.013.227 đ/m³.
D177: - Giếng khoan phi 90 sâu 30m, 2 cái | E177: m sâu | F177: =30*2 -> 60 | G177: 1016519 | H177: 1 | I177: =H177*G177*F177 -> 60991140
D178: Áp dụng Stt 29, Mục C, Quyết định số 08/2026/QĐ-UBND ngày 22/01/2026, đơn giá: 1.016.519 đ/m sâu.
D180: - Cổng trụ gỗ, cánh khung thép hình kết hợp lưới B40, cao 1,7m, rộng 4,5m | E180: m² | F180: =1.7*4.5 -> 7.65 | G180: =3574642*(1-0.085) -> 3270797.4 | H180: 1 | I180: =H180*G180*F180 -> 25021600
D181: Áp dụng Stt 80, Mục C, Quyết định số 08/2026/QĐ-UBND ngày 22/01/2026, đơn giá: 3.574.642 đ/m². Điều chỉnh giảm 8,5% do cổng trụ gỗ quy định tại điểm 12 , Phụ lục của Văn bản số 2093/SXD-KTVLXD ngày 05/03/2026 của Sở Xây dựng, đơn giá bồi thường: 3.574.642 x (1 - 0,085) = 3.270.797 đ/m².
D186: - Hàng rào lưới B40 cao 1,7m, trụ BTCT, dài 47 md | E186: m dài | F186: 47 | G186: =627276*(1+0.085) -> 680594.46 | H186: 1 | I186: =H186*G186*F186 -> 31987940
D187: Áp dụng Stt 12.2, Mục C, Quyết định số 08/2026/QĐ-UBND ngày 22/01/2026 , đơn giá: 627.276 đ/m dài. Điều chỉnh tăng 8,5% do cao 1,7m quy định tại điểm 12 , Phụ lục của Văn bản số 2093/SXD-KTVLXD ngày 05/03/2026 của Sở Xây dựng, đơn giá bồi thường: 627.276 x (1 + 0,085) = 680.594 đ/m dài.
...

Sheet BTH 250m2
A1: BẢNG TỔNG HỢP
A2: DỰ ÁN: KHU ĐÔ THỊ HỖN HỢP THÀNH PHỐ NHA TRANG
A3: Địa điểm: xã Phước Đồng, xã Vĩnh Thái, phường Phước Long, phường Phước Hải, thành phố Nha Trang
A5: STT | B5: Họ và tên | C5: Thửa | D5: TỜ BĐTĐ | E5: TỔNG DT | F5: DIỆN TÍCH ĐẤT THU HỒI (m²) | J5: Số tiền bồi thường, hỗ trợ (đồng) | O5: Tổng số tiền BT, HT | P5: Khen thưởng | Q5: Tái định cư
F6: Tổng diện tích thu hồi | G6: Đất ở | H6: Đất nông nghiệp | I6: Đất do Nhà nước quản lý | J6: BT,HT về đất | K6: BT, HT về tài sản | L6: BT,HT về cây trồng | M6: Bồi thường chi phí di chuyển tài sản | N6: BT, HT khác | O6: (đồng)
A7: 1 | B7: Hộ ông Đặng Văn Sớm và bà Đinh Thị Gái | C7: 321 | D7: 15 | E7: ='Phương án bà Pho 250 m2'!F5 -> 351.6 | F7: ='Phương án bà Pho 250 m2'!F6 -> 351.6 | G7: 0 | H7: ='Phương án bà Pho 250 m2'!F29 -> 207.7 | I7: ='Phương án bà Pho 250 m2'!F10 -> 143.9 | J7: ='Phương án bà Pho 250 m2'!J4 -> 157436600 | K7: ='Phương án bà Pho 250 m2'!I35 -> 0 | L7: ='Phương án bà Pho 250 m2'!I37 -> 208000 | M7: 0 | N7: ='Phương án bà Pho 250 m2'!J47 -> 67294800 | O7: =SUM(J7:N7) -> 224939400 | P7: 0 | Q7: Không đủ điều kiện bố trí TĐC
A8: 2 | B8: Hộ ông Đặng Văn Nhiều và bà Trương Thị Tình tự kê khai | C8: 322 | D8: 15 | E8: ='Phương án bà Pho 250 m2'!F71 -> 2807.4 | F8: ='Phương án bà Pho 250 m2'!F72 -> 2807.4 | G8: 0 | H8: ='Phương án bà Pho 250 m2'!F75 -> 0 | I8: ='Phương án bà Pho 250 m2'!F77 -> 2807.4 | J8: ='Phương án bà Pho 250 m2'!J70 -> 0 | K8: ='Phương án bà Pho 250 m2'!I81 -> 0 | L8: ='Phương án bà Pho 250 m2'!I83 -> 0 | M8: 0 | N8: ='Phương án bà Pho 250 m2'!H88 -> 0 | O8: =SUM(J8:N8) -> 0 | P8: 0 | Q8: Không đủ điều kiện bố trí TĐC
A9: 3 | B9: Hộ ông Phan Thanh Hùng và bà Đinh Thị Thu | C9: 35 + 171 | D9: 15 | E9: ='Phương án bà Pho 250 m2'!F101 -> 8244.8 | F9: ='Phương án bà Pho 250 m2'!F102 -> 8244.8 | G9: 0 | H9: ='Phương án bà Pho 250 m2'!F126 -> 8221.6 | I9: ='Phương án bà Pho 250 m2'!F106 -> 23.2 | J9: ='Phương án bà Pho 250 m2'!J94 -> 6.2319728e+09 | K9: ='Phương án bà Pho 250 m2'!I133 -> 5.7095339e+08 | L9: ='Phương án bà Pho 250 m2'!I192 -> 1305000 | M9: =0 -> 0 | N9: ='Phương án bà Pho 250 m2'!J214 -> 2.6686361e+09 | O9: =SUM(J9:N9) -> 9.4728673e+09 | P9: 0 | Q9: Không đủ điều kiện bố trí TĐC
A10: 4 | B10: Hộ ông Nguyễn Bàng (chết) và bà Tô Thị Pho | C10: 343 | D10: 15 | E10: ='Phương án bà Pho 250 m2'!F249 -> 5065.1 | F10: ='Phương án bà Pho 250 m2'!F250 -> 5065.1 | G10: ='Phương án bà Pho 250 m2'!F280 -> 250 | H10: ='Phương án bà Pho 250 m2'!F292 -> 4665.7 | I10: ='Phương án bà Pho 250 m2'!F253 -> 149.4 | J10: ='Phương án bà Pho 250 m2'!J248 -> 3.7579277e+09 | K10: ='Phương án bà Pho 250 m2'!I297 -> 1.1263132e+09 | L10: ='Phương án bà Pho 250 m2'!I521 -> 145467000 | M10: ='Phương án bà Pho 250 m2'!J667 -> 10000000 | N10: ='Phương án bà Pho 250 m2'!J629 -> 1.5808622e+09 | O10: =SUM(J10:N10) -> 6.6205701e+09 | P10: ='Phương án bà Pho 250 m2'!J706 -> 8000000 | Q10: Đủ điều kiện bố trí TĐC
A11: 5 | B11: Hộ ông Nguyễn Văn Bảy và bà Đặng Thị Sáng | C11: 74 | D11: 45 | E11: ='Phương án bà Pho 250 m2'!F717 -> 4262.8 | F11: ='Phương án bà Pho 250 m2'!F718 -> 3746.6 | G11: ='Phương án bà Pho 250 m2'!F748 -> 250 | H11: ='Phương án bà Pho 250 m2'!F762 -> 3117.6 | I11: ='Phương án bà Pho 250 m2'!F721 -> 379 | J11: ='Phương án bà Pho 250 m2'!J716 -> 3037040800 | K11: ='Phương án bà Pho 250 m2'!I770 -> 5.8783359e+08 | L11: ='Phương án bà Pho 250 m2'!I821 -> 14243000 | M11: ='Phương án bà Pho 250 m2'!J884 -> 10000000 | N11: ='Phương án bà Pho 250 m2'!J845 -> 1064453120 | O11: =SUM(J11:N11) -> 4.7135705e+09 | P11: ='Phương án bà Pho 250 m2'!J897 -> 8000000 | Q11: Đủ điều kiện bố trí TĐC
A12: 6 | B12: Hộ ông Lương Quang Hà | C12: 258 | D12: 15 | E12: ='Phương án bà Pho 250 m2'!F912 -> 150.3 | F12: ='Phương án bà Pho 250 m2'!F913 -> 150.3 | G12: 0 | H12: ='Phương án bà Pho 250 m2'!F934 -> 150.3 | I12: 0 | J12: ='Phương án bà Pho 250 m2'!J911 -> 99348300 | K12: ='Phương án bà Pho 250 m2'!I939 -> 27807725 | L12: ='Phương án bà Pho 250 m2'!I960 -> 2252000 | M12: 0 | N12: ='Phương án bà Pho 250 m2'!J975 -> 29186280 | O12: ='Phương án bà Pho 250 m2'!J1002 -> 1.5859431e+08 | P12: 0 | Q12: Không đủ điều kiện bố trí TĐC
B13: Tổng | C13: 06 trường hợp/ 07 thửa đất | E13: =SUM(E7:E12) -> 20882 | F13: =SUM(F7:F12) -> 20365.8 | G13: =SUM(G7:G12) -> 500 | H13: =SUM(H7:H12) -> 16362.9 | I13: =SUM(I7:I12) -> 3502.9 | J13: =SUM(J7:J12) -> 13283726200 | K13: =SUM(K7:K12) -> 2.3129079e+09 | L13: =SUM(L7:L12) -> 163475000 | ... P13: =SUM(P7:P12) -> 16000000
B15: 1/ Số trường hợp bị giải tỏa: | G15: 06 trường hợp/07 thửa đất
B16: 2/ Kinh phí bồi thường, hỗ trợ, tái định cư: | F16: =O13 -> 2.1190542e+10 | H16: đồng
B17: 3/ Chi phí thực hiện bồi thường, hỗ trợ (3%): | F17: =F16*3% -> 6.3571625e+08 | H17: đồng
B18: 4/ Tổng kinh phí bồi thường, hỗ trợ: | F18: =F16+F17 -> 2.1826258e+10 | H18: đồng
B19: 5/ Kinh phí khen thưởng: | F19: =P13 -> 16000000 | H19: đồng
B20: 6/ Tổng kinh phí bồi thường, hỗ trợ và khen thưởng: | F20: =SUM(E18:G19) -> 2.1842258e+10 | H20: đồng | S20: 1399703161
K22: Nam Nha Trang, ngày tháng năm 2026
K23: BAN QUẢN LÝ DỰ ÁN VÀ PHÁT TRIỂN QUỸ ĐẤT
A24: NGƯỜI LẬP PHƯƠNG ÁN | F24: PHÓ TRƯỞNG PHÒNG | K24: GIÁM ĐỐC
A31: NGUYỄN KHÁNH NHIÊN | F31: NGUYỄN KHÁNH HƯNG | K31: NGUYỄN HOÀNG LƯƠNG

Sheet Sheet2

Sheet BTH
