Workbook
Name _Hlk214024823: 'Phương án'!#REF!

Sheet Phương án
A1: II/ Kết quả xét bồi thường, hỗ trợ, tái định cư:
A2: STT | B2: HỌ TÊN VÀ ĐỊA CHỈ (Nơi ở và nơi giải tỏa) | C2: GIẤY TỜ NGUỒN GỐC NHÀ ĐẤT | D2: NỘI DUNG BỒI THƯỜNG, HỖ TRỢ | E2: Đơn vị tính | F2: Khối lượng BT, HT | G2: Đơn giá (đồng) | H2: Mức BT, HT (%) | I2: THÀNH TIỀN (đồng) | J2: TỔNG TIỀN (đồng)
A3: 1 | B3: 2 | C3: 3 | D3: 4 | E3: 5 | F3: 6 | G3: 7 | I3: 9 | J3: 10
A4: 1 | B4: Hộ ông Nguyễn Văn Đồng và bà Ngô Thị Dĩ - CCCD số CCCD số 056054003334 ngày 03/6/2022 do Cục CSQLHC về TTXH cấp cho ông Nguyễn Văn Đồng; - CCCD số 056157004242 ngày 28/6/2021 do Cục CSQLHC về TTXH cấp cho bà Ngô Thị Dĩ - Địa chỉ thường trú: Thái Thông 2, Vĩnh Thái, Nha Trang, Khánh Hòa (nay là phường Nam Nha Trang) (không thuộc vị trí giải tỏa). - Địa chỉ thửa đất giải tỏa: Tổ dân phố Vĩnh Xuân, phường Nam Nha Trang, tỉnh Khánh Hòa - Số điện thoại: 0798.126.928 | C4: - Giấy xác nhận về thửa đất bị thu hồi để phục vụ cho công tác bồi thường, hỗ trợ, tái định cư khi Nhà nước thu hồi đất số 13106/GXN–KTHTĐT ngày 8/10/2026 của Phòng Kinh tế Hạ tầng Đô thị phường Nam Nha Trang xác nhận. | D4: I/ Về đất: | J4: =SUM(I7:I33) -> 419735000
D5: - Tổng diện tích (Thửa 153/tờ 11) | E5: m² | F5: 635
D6: + DT đất giải tỏa: | E6: m² | F6: 635
D7: + DT đất còn lại: | E7: m² | F7: =SUM(F5-F6) -> 0
D8: * Tỷ lệ giải tỏa: | E8: % | F8: =F6/F5*100 -> 100
C10: Giấy chứng nhận quyền sử dụng đất, quyền sở hữu nhà ở và tài sản khác gắn liền với đất số CS00696 ngày 27/11/2018 do Sở Tài nguyên và Môi trường tỉnh Khánh Hòa TUQ.Giám đốc Giám đốc Chi nhánh Văn phòng Đăng ký đất đai tại thành phố Nha Trang cấp cho hộ ông Nguyễn Văn Đồng và bà Ngô Thị Dĩ | D10: 1- Bồi thường về Đất:
D11: - Điều 95, Điều 96, khoản 1 Điều 176 của Luật đất đai năm 2024; - Điều 3 Nghị Quyết số 254/2025/QH15 của Quốc Hội về việc quy định một số cơ chế, chính sách tháo gỡ khó khăn, vướng mắc trong tổ chức thi hành Luật Đất đai. - Điều 05, Điều 06, Điều 12 Nghị định 88/2024/NĐ-CP ngày 15/7/ 2024 của Chính phủ quy định về bồi thường, hỗ trợ và tái định cư khi Nhà nước thu hồi đất. " - Quyết định số 3105/QĐ-UBND ngày 31/12/2025 của Chủ tịch UBND phường Nam Nha Trang về việc phê duyệt kết quả thẩm định phương án giá đất cụ thể để tính bồi thường khi Nhà nước thu hồi đất để thực hiện dự án Khu đô thị hỗn hợp thành phố Nha Trang. - Văn bản số 1799/SNNMT-CCQLĐĐ ngày 08/8/2025 của Sở Nông nghiệp Môi trường. - Căn cứ Công văn số 4323/UBND-VP ngày 21/7/2026 của UBND phường Nam Nha Trang về việc triển khai áp dụng giá đất để tính bồi thường các dự án trên địa bàn phường Nam Nha Trang.
C17: - Biên bản kiểm kê khối lượng giải tỏa ngày 23/3/2026 của Tổ công tác.
D30: Bồi thường đất cây hàng năm | E30: m² | F30: =F6 -> 635 | G30: 661000 | H30: 1 | I30: =F30*G30*H30 -> 419735000
D31: Đơn giá đất thuộc địa bàn phường Nam Nha Trang: 661.000 đ/m².
D34: II/ Tài sản gắn liền với đất: | J34: =I35+I37+I39 -> 270000
D35: 1- Công trình, vật kiến trúc: | I35: 0
D36: - Không có
D37: 2- Cây trồng. | I37: =SUM(I43:I43) -> 270000
D38: * Căn cứ Điều 103 Luật đất đai năm 2024
D39: - Đơn giá bồi thường, hỗ trợ thiệt hại đối với cây trồng, vật nuôi khi Nhà nước thu hồi đất trên địa bàn tỉnh Khánh Hoà áp dụng theo Quyết định số 35/2026/QĐ-UBND ngày 04/5/2026 của UBND tỉnh Khánh Hòa.
D43: - Rau muống | E43: m² | F43: 18 | G43: 15000 | H43: 1 | I43: =H43*G43*F43 -> 270000
D45: III/ Chính sách hỗ trợ (1 + 2 ): | J45: =SUM(I46:I69) -> 215415360
D46: 1- Hỗ trợ ổn định đời sống:
D47: * Căn cứ Điều 108 Luật đất đai năm 2024. *Áp dụng khoản 1 Điều 19 Nghị định số 88/2024/NĐ-CP ngày 15/7/2024 của Chính phủ. * Giá gạo được áp dụng theo Văn bản số 9017/STC-QLG&CS ngày 03/07/2026 của Sở Tài chính tỉnh Khánh Hòa V/v giá gạo để tính hỗ trợ ổn định đời sống và ổn định sản xuất. Đơn giá: 13.438 đồng/kg
D54: Thu hồi trên 70% diện tích đất nông nghiệp đang sử dụng và không phải di chuyển chỗ ở (2 khẩu): (30kg/tháng x 12 tháng x 2 nhân khẩu) = 720kg | E54: kg | F54: =30*12*2 -> 720 | G54: 13438 | H54: 1 | I54: =H54*G54*F54 -> 9675360
D58: 2- Hỗ trợ đào tạo, chuyển đổi nghề, tìm kiếm việc làm:
D59: * Áp dụng khoản 1 Điều 13 Quyết định số 17/2024/QĐ-UBND ngày 29/8/2024 của UBND tỉnh Khánh Hòa và Văn bản số 1718/UBND-VP ngày 21/10/2025 của UBND phường Nam Nha Trang
D63: *Giá đất được áp dụng tại Nghị quyết số 15/2025/NQ-HĐND ngày 18/01/2026 của HĐND tỉnh Khánh Hòa - Hỗ trợ chuyển đổi nghề nghiệp và tạo việc làm tính theo diện tích giải tỏa. Mức hỗ trợ bằng (03) lần giá đất nông nghiệp trong Bảng giá đất hiện hành của tỉnh Khánh Hòa, đơn giá: 108.000đ/m² x 3 lần = 324.000đ/m².
D69: Diện tích tính hỗ trợ: 635,0 m² | E69: m² | F69: =F6 -> 635 | G69: 324000 | H69: 1 | I69: =H69*G69*F69 -> 205740000
D71: IV/ Tái định cư:
D72: - Căn cứ Khoản 4, Khoản 5 Điều 111 Luật Đất đai năm 2024. | F72: Hộ gia đình không đủ điều kiện giải quyết tái định cư do không bị thu hồi đất ở và không phải di chuyển chỗ ở.
A74: * Tổng số tiền bồi thường, hỗ trợ: | J74: =J4+J34+J45 -> 635420360
A77: 2 | B77: Ông Nguyễn Thanh Tâm và bà Phạm Thị Thu Trang - CCCD số 056076016149 ngày 14/8/2021 do Cục CSQLHC về TTXH cấp cho ông Nguyễn Thanh Tâm; - CCCD số 056182010061 ngày 24/7/2023 do Cục CSQLHC về TTXH cấp cho bà Phạm Thị Thu Trang; - Địa chỉ thường trú: Thái Thông, Vĩnh Thái, Nha Trang, Khánh Hòa (nay là phường Nam Nha Trang) (không thuộc vị trí giải tỏa). - Địa chỉ thửa đất giải tỏa: Tổ dân phố Vĩnh Xuân, phường Nam Nha Trang, tỉnh Khánh Hòa - Số điện thoại: 0983.113.241 | C77: - Giấy xác nhận về thửa đất bị thu hồi để phục vụ cho công tác bồi thường, hỗ trợ, tái định cư khi Nhà nước thu hồi đất số 13105/GXN–KTHTĐT ngày 8/10/2026 của Phòng Kinh tế Hạ tầng Đô thị phường Nam Nha Trang; | D77: I/ Về đất: | J77: =SUM(I80:I106) -> 360245000
D78: - Tổng diện tích (Thửa 122/tờ 11) | E78: m² | F78: 545
D79: + DT đất giải tỏa: | E79: m² | F79: 545
D80: + DT đất còn lại: | E80: m² | F80: =SUM(F78-F79) -> 0
D81: * Tỷ lệ giải tỏa: | E81: % | F81: =F79/F78*100 -> 100
C83: Giấy chứng nhận quyền sử dụng đất, quyền sở hữu nhà ở và tài sản khác gắn liền với đất số CS01907 ngày 15/02/2022 do Sở Tài nguyên và Môi trường tỉnh Khánh Hòa TUQ.Giám đốc Giám đốc Chi nhánh Văn phòng Đăng ký đất đai tại thành phố Nha Trang cấp cho ông Nguyễn Thanh Tâm; | D83: 1- Bồi thường về Đất:
D84: * Cơ sở áp dụng: - Điều 95, Điều 96, khoản 1 Điều 176 của Luật đất đai năm 2024; - Điều 3 Nghị Quyết số 254/2025/QH15 của Quốc Hội về việc quy định một số cơ chế, chính sách tháo gỡ khó khăn, vướng mắc trong tổ chức thi hành Luật Đất đai. - Điều 05, Điều 06, Điều 12 Nghị định 88/2024/NĐ-CP ngày 15/7/ 2024 của Chính phủ quy định về bồi thường, hỗ trợ và tái định cư khi Nhà nước thu hồi đất. " - Văn bản số 1799/SNNMT-CCQLĐĐ ngày 08/8/2025 của Sở Nông nghiệp Môi trường. - Quyết định số 3105/QĐ-UBND ngày 31/12/2025 của Chủ tịch UBND phường Nam Nha Trang về việc phê duyệt kết quả thẩm định phương án giá đất cụ thể để tính bồi thường khi Nhà nước thu hồi đất để thực hiện dự án Khu đô thị hỗn hợp thành phố Nha Trang. - Căn cứ Công văn số 4323/UBND-VP ngày 21/7/2026 của UBND phường Nam Nha Trang về việc triển khai áp dụng giá đất để tính bồi thường các dự án trên địa bàn phường Nam Nha Trang.
C91: - Biên bản kiểm kê khối lượng giải tỏa ngày 23/3/2026 của Tổ công tác;
D104: Bồi thường đất cây hàng năm | E104: m² | F104: =F79 -> 545 | G104: 661000 | H104: 1 | I104: =F104*G104*H104 -> 360245000
D105: Đơn giá đất thuộc địa bàn phường Nam Nha Trang: 661.000 đ/m².
D108: II/ Tài sản gắn liền với đất: | J108: =I109+I125 -> 618040.71
D109: 1- Công trình, vật kiến trúc: | I109: =SUM(I120:I124) -> 333040.71
D110: * Cơ sở pháp lý áp dụng:
D111: * Căn cứ Điều 105 Luật đất đai năm 2024, Điều 14 Nghị định số 88/2024/NĐ-CP ngày 15/7/2024 của Chính phủ, Điều 5 Quyết định số 17/2024/QĐ-UBND ngày 29/8/2024 của UBND tỉnh Khánh Hòa. * Đơn giá áp dụng theo Quyết định số 08/2026/QĐ-UBND ngày 22/01/2026 và Quyết định số 12/2026/QĐ-UBND ngày 24/02/2026 của UBND tỉnh Khánh Hòa; Văn bản số 2093/SXD-KTVLXD ngày 05/03/2026 của Sở Xây dựng.
D120: - Trụ BTCT. Khối tích: (0,1m x 0,1m x 1,5m)x 2 trụ = 0,03m³ | E120: m³ | F120: =0.1*0.1*1.5*2 -> 0.03 | G120: 11101357 | H120: 1 | I120: =F120*G120*H120 -> 333040.71
D122: Áp dụng STT 60 Mục C, theo Quyết định số 08/2026/QĐ-UBND ngày 22/01/2026. Đơn giá 11.101.357đ/m³.
D125: 2- Cây trồng. | I125: =I132 -> 285000
D126: * Cơ sở pháp lý áp dụng:
D127: -Căn cứ Điều 103 Luật đất đai năm 2024
D128: - Đơn giá bồi thường, hỗ trợ thiệt hại đối với cây trồng, vật nuôi khi Nhà nước thu hồi đất trên địa bàn tỉnh Khánh Hoà áp dụng theo Quyết định số 35/2026/QĐ-UBND ngày 04/5/2026 của UBND tỉnh Khánh Hòa.
D132: - Rau muống | E132: m² | F132: 19 | G132: 15000 | H132: 1 | I132: =+H132*G132*F132 -> 285000
D134: III/ Chính sách hỗ trợ (1 + 2): | J134: =SUM(I135:I159) -> 186255360
D135: 1- Hỗ trợ ổn định đời sống:
D136: * Cơ sở pháp lý áp dụng:
D137: - Căn cứ Điều 108 Luật đất đai năm 2024. - Áp dụng khoản 1 Điều 19 Nghị định số 88/2024/NĐ-CP ngày 15/7/2024 của Chính phủ. - Giá gạo được áp dụng theo Văn bản số 9017/STC-QLG&CS ngày 03/07/2026 của Sở Tài chính tỉnh Khánh Hòa V/v giá gạo để tính hỗ trợ ổn định đời sống và ổn định sản xuất. Đơn giá: 13.438 đồng/kg
D144: Thu hồi từ trên 70% diện tích đất nông nghiệp đang sử dụng và không phải di chuyển chỗ ở (2 khẩu): (30kg/tháng x 12 tháng x 2 nhân khẩu) = 720 kg | E144: kg | F144: =30*12*2 -> 720 | G144: 13438 | H144: 1 | I144: =H144*G144*F144 -> 9675360
D147: 2- Hỗ trợ đào tạo, chuyển đổi nghề, tìm kiếm việc làm:
D148: * Cơ sở pháp lý áp dụng:
D149: * Áp dụng khoản 1 Điều 13 Quyết định số 17/2024/QĐ-UBND ngày 29/8/2024 của UBND tỉnh Khánh Hòa và Văn bản số 1718/UBND-VP ngày 21/10/2025 của UBND phường Nam Nha Trang
D153: *Giá đất được áp dụng tại Nghị quyết số 15/2025/NQ-HĐND ngày 18/01/2026 của HĐND tỉnh Khánh Hòa - Hỗ trợ chuyển đổi nghề nghiệp và tạo việc làm tính theo diện tích giải tỏa. Mức hỗ trợ bằng (03) lần giá đất nông nghiệp trong Bảng giá đất hiện hành của tỉnh Khánh Hòa, đơn giá: 108.000đ/m² x 3 lần = 324.000đ/m².
D159: Diện tích tính hỗ trợ: 545,0 m² | E159: m² | F159: =F79 -> 545 | G159: 324000 | H159: 1 | I159: =H159*G159*F159 -> 176580000
D161: IV/ Tái định cư:
D162: - Căn cứ Khoản 4, Khoản 5 Điều 111 Luật Đất đai năm 2024. | F162: Hộ gia đình không đủ điều kiện giải quyết tái định cư do không bị thu hồi đất ở và không phải di chuyển chỗ ở.
A164: * Tổng số tiền bồi thường, hỗ trợ: | J164: =J77+J108+J134 -> 5.471184e+08
A167: 3 | B167: Ông Trần Văn Truyền và bà Lê Thị Tuyết Mai - CCCD số 056071009930 ngày 14/8/2021 do Cục CSQLHC về TTXH cấp cho ông Trần Văn Truyền; - CCCD số 056170008414 ngày 14/8/2021 do Cục CSQLHC về TTXH cấp cho bà Lê Thị Tuyết Mai - Địa chỉ thường trú: thôn Vĩnh Xuân, Vĩnh Thái, Nha Trang, Khánh Hòa (nay là phường Nam Nha Trang) (không thuộc vị trí giải tỏa). - Địa chỉ thửa đất giải tỏa: Tổ dân phố Vĩnh Xuân, phường Nam Nha Trang, tỉnh Khánh Hòa - Số điện thoại: 0799.404.708 - 0896.463.704 | C167: - Giấy xác nhận về thửa đất bị thu hồi để phục vụ cho công tác bồi thường, hỗ trợ, tái định cư khi Nhà nước thu hồi đất số 13328 /GXN–KTHTĐT ngày 12/10/2026 của Phòng Kinh tế Hạ tầng Đô thị phường Nam Nha Trang xác nhận. | D167: I/ Về đất: | J167: =SUM(I170:I197) -> 1.26912e+09
D168: - Tổng diện tích (Thửa 167/tờ 11) | E168: m² | F168: 2118.2
D169: + DT đất giải tỏa: | E169: m² | F169: 2118.2
D170: + DT đất còn lại: | E170: m² | F170: =SUM(F168-F169) -> 0
D171: * Tỷ lệ giải tỏa: | E171: % | F171: =F169/F168*100 -> 100
D173: 1- Không bồi thường về đất | E173: m² | F173: 198.2 | G173: Căn cứ theo khoản 2 Điều 101 Luật Đất đai 2024 không bồi thường. Hộ gia đình có trách nhiệm bàn giao mặt bằng cho dự án
C174: - Biên bản kiểm kê khối lượng giải tỏa ngày 17/3/2026 của Tổ công tác; | D174: - Phần diện tích 198,2m2 thuộc đất mương nước do Nhà nước quản lý theo hồ sơ địa chính năm 2002
C177: - Giấy chứng nhận quyền sử dụng đất, quyền sở hữu nhà ở và tài sản khác gắn liền với đất số CH00419/22402 ngày 16/9/2011 do UBND thành phố Nha Trang cấp cho ông Trần Văn Truyền và bà Lê Thị Tuyết Mai; | D177: 2 - Bồi thường về đất:
D178: * Cơ sở pháp lý áp dụng:
D179: - Điều 95, Điều 96, khoản 1 Điều 176 của Luật đất đai năm 2024; - Điều 3 Nghị Quyết số 254/2025/QH15 của Quốc Hội về việc quy định một số cơ chế, chính sách tháo gỡ khó khăn, vướng mắc trong tổ chức thi hành Luật Đất đai. - Điều 05, Điều 06, Điều 12 Nghị định 88/2024/NĐ-CP ngày 15/7/ 2024 của Chính phủ quy định về bồi thường, hỗ trợ và tái định cư khi Nhà nước thu hồi đất. " - Quyết định số 3105/QĐ-UBND ngày 31/12/2025 của Chủ tịch UBND phường Nam Nha Trang về việc phê duyệt kết quả thẩm định phương án giá đất cụ thể để tính bồi thường khi Nhà nước thu hồi đất để thực hiện dự án Khu đô thị hỗn hợp thành phố Nha Trang. - Căn cứ Công văn số 4323/UBND-VP ngày 21/7/2026 của UBND phường Nam Nha Trang về việc triển khai áp dụng giá đất để tính bồi thường các dự án trên địa bàn phường Nam Nha Trang.
D196: - Bồi thường đất cây hàng năm | E196: m² | F196: =F169-F173 -> 1920 | G196: 661000 | H196: 1 | I196: =F196*G196*H196 -> 1.26912e+09
D197: Đơn giá đất thuộc địa bàn phường Nam Nha Trang: 661.000 đ/m².
D200: II/ Tài sản gắn liền với đất: | J200: =I201+I216 -> 193700584
D201: 1- Công trình, vật kiến trúc: | I201: =I212 -> 138246584
D202: * Cơ sở pháp lý áp dụng:
D203: * Căn cứ Điều 102, 105 Luật đất đai năm 2024, Điều 14 Nghị định số 88/2024/NĐ-CP ngày 15/7/2024 của Chính phủ, Điều 5 Quyết định số 17/2024/QĐ-UBND ngày 29/8/2024 của UBND tỉnh Khánh Hòa * Đơn giá áp dụng theo Quyết định số 08/2026/QĐ-UBND ngày 22/01/2026 và Quyết định số 12/2026/QĐ-UBND ngày 24/02/2026 của UBND tỉnh Khánh Hòa; Văn bản số 2093/SXD-KTVLXD ngày 05/03/2026 của Sở Xây dựng.
D212: - Giếng khoan phi 90, sâu 34m, số lượng 4 cái. | E212: m sâu | F212: =34*4 -> 136 | G212: 1016519 | H212: 1 | I212: =F212*G212*H212 -> 138246584
D213: Áp dụng STT 29 Mục C, theo Quyết định số 08/2026/QĐ-UBND ngày 22/01/2026. Đơn giá 1.016.519 đ/m sâu.
D216: 2- Cây trồng. | I216: =SUM(I225:I229) -> 55454000
D217: * Cơ sở pháp lý áp dụng:
D218: * Căn cứ Điều 103 Luật đất đai năm 2024
D219: - Đơn giá bồi thường, hỗ trợ thiệt hại đối với cây trồng, vật nuôi khi Nhà nước thu hồi đất trên địa bàn tỉnh Khánh Hoà áp dụng theo Quyết định số 35/2026/QĐ-UBND ngày 04/5/2026 của UBND tỉnh Khánh Hòa. - Thông báo số 4004/TB-UBND ngày 8/7/2026 của UBND phường Nam Nha Trang
D225: - Xoài ươm từ hạt dưới 1 năm (áp tương đương Xoài 1 năm) | E225: cây | F225: 317 | G225: 152000 | H225: 1 | I225: =F225*G225*H225 -> 48184000
D226: - Mận dưới 1 năm (áp tương đương Mận 1 năm) | E226: cây | F226: 32 | G226: 136000 | H226: 1 | I226: =F226*G226*H226 -> 4352000
D227: - Ổi dưới 1 năm (áp tương đương Ổi 1 năm) | E227: cây | F227: 11 | G227: 120000 | H227: 1 | I227: =F227*G227*H227 -> 1320000
D228: - Chuối dưới 1 năm (áp tương đương Chuối 1 năm) | E228: cây | F228: 10 | G228: 61000 | H228: 1 | I228: =F228*G228*H228 -> 610000
D229: - Keo lá tràm loại A (áp tương đương keo lá tràm 3 năm) | E229: cây | F229: 19 | G229: 52000 | H229: 1 | I229: =F229*G229*H229 -> 988000
D231: III/ Chính sách hỗ trợ (1 + 2): | J231: =SUM(I232:I258) -> 6.3175536e+08
D232: 1- Hỗ trợ ổn định đời sống:
D233: * Cơ sở pháp lý áp dụng:
D234: * Căn cứ Điều 108 Luật đất đai năm 2024. *Áp dụng khoản 1 Điều 19 Nghị định số 88/2024/NĐ-CP ngày 15/7/2024 của Chính phủ. * Giá gạo được áp dụng theo Văn bản số 9017/STC-QLG&CS ngày 03/07/2026 của Sở Tài chính tỉnh Khánh Hòa V/v giá gạo để tính hỗ trợ ổn định đời sống và ổn định sản xuất. Đơn giá: 13.438 đồng/kg
D241: Thu hồi trên 70% diện tích đất nông nghiệp đang sử dụng và không phải di chuyển chỗ ở (2 khẩu): (30kg/tháng x 12 tháng x 2 nhân khẩu) = 360 kg
E243: kg | F243: =30*12*2 -> 720 | G243: 13438 | H243: 1 | I243: =F243*G243*H243 -> 9675360
D245: 2- Hỗ trợ đào tạo, chuyển đổi nghề, tìm kiếm việc làm:
D246: * Cơ sở pháp lý áp dụng: * Áp dụng khoản 1 Điều 13 Quyết định số 17/2024/QĐ-UBND ngày 29/8/2024 của UBND tỉnh Khánh Hòa và Văn bản số 1718/UBND-VP ngày 21/10/2025 của UBND phường Nam Nha Trang
...

Sheet BTH
A1: BẢNG TỔNG HỢP DỰ ÁN: KHU ĐÔ THỊ HỖN HỢP THÀNH PHỐ NHA TRANG Địa điểm: xã Phước Đồng, xã Vĩnh Thái, phường Phước Long, phường Phước Hải, thành phố Nha Trang
A5: STT | B5: Họ và tên | C5: Thửa | D5: TỜ BĐTĐ | E5: TỔNG DT | F5: DIỆN TÍCH ĐẤT THU HỒI (m²) | J5: SỐ TIỀN BỒI THƯỜNG, HỖ TRỢ (Đồng) | O5: Tổng số tiền BT, HT (đồng) | P5: Tái định cư
F6: Tổng diện tích thu hồi | G6: Đất ở | H6: Đất nông nghiệp | I6: Đất do Nhà nước quản lý | J6: BT,HT về đất | K6: BT, HT về tài sản | L6: BT,HT về cây trồng | M6: Bồi thường chi phí di chuyển tài sản | N6: BT, HT khác
A7: 1 | B7: Hộ ông Nguyễn Văn Đồng và bà Ngô Thị Dĩ | C7: 153 | D7: 11 | E7: ='Phương án'!F5 -> 635 | F7: ='Phương án'!F6 -> 635 | G7: 0 | H7: ='Phương án'!F6 -> 635 | I7: 0 | J7: ='Phương án'!J4 -> 419735000 | K7: ='Phương án'!I35 -> 0 | L7: ='Phương án'!I37 -> 270000 | M7: 0 | N7: ='Phương án'!J45 -> 215415360 | O7: =SUM(J7:N7) -> 635420360 | P7: Không đủ điều kiện bố trí tái định cư
A8: 2 | B8: Ông Nguyễn Thanh Tâm và bà Phạm Thị Thu Trang | C8: 122 | D8: 11 | E8: ='Phương án'!F78 -> 545 | F8: ='Phương án'!F79 -> 545 | G8: 0 | H8: ='Phương án'!F104 -> 545 | I8: 0 | J8: ='Phương án'!J77 -> 360245000 | K8: ='Phương án'!I109 -> 333040.71 | L8: ='Phương án'!I125 -> 285000 | M8: 0 | N8: ='Phương án'!J134 -> 186255360 | O8: =SUM(J8:N8) -> 5.471184e+08 | P8: Không đủ điều kiện bố trí tái định cư
A9: 3 | B9: Ông Trần Văn Truyền và bà Lê Thị Tuyết Mai | C9: 167 | D9: 11 | E9: ='Phương án'!F168 -> 2118.2 | F9: ='Phương án'!F169 -> 2118.2 | G9: 0 | H9: ='Phương án'!F196 -> 1920 | I9: ='Phương án'!F173 -> 198.2 | J9: ='Phương án'!J167 -> 1.26912e+09 | K9: ='Phương án'!I201 -> 138246584 | L9: ='Phương án'!I216 -> 55454000 | M9: 0 | N9: ='Phương án'!J231 -> 6.3175536e+08 | O9: =SUM(J9:N9) -> 2.0945759e+09 | P9: Không đủ điều kiện bố trí tái định cư
A10: 4 | B10: Ông Nguyễn Văn Tâm | C10: 142 | D10: 11 | E10: ='Phương án'!F268 -> 435 | F10: ='Phương án'!F269 -> 435 | G10: 0 | H10: ='Phương án'!F292 -> 435 | I10: 0 | J10: ='Phương án'!J267 -> 287535000 | K10: ='Phương án'!I297 -> 0 | L10: ='Phương án'!I300 -> 285000 | M10: 0 | N10: ='Phương án'!J311 -> 145777680 | O10: =SUM(J10:N10) -> 433597680 | P10: Không đủ điều kiện bố trí tái định cư
A11: 5 | B11: Hộ ông Nguyễn Ngọc Minh (chết) và bà Mai Thị Lý | C11: 152 | D11: 11 | E11: ='Phương án'!F348 -> 984.9 | F11: ='Phương án'!F349 -> 984.9 | G11: 0 | H11: ='Phương án'!F376 -> 930 | I11: ='Phương án'!F353 -> 54.9 | J11: ='Phương án'!J347 -> 614730000 | K11: ='Phương án'!I381 -> 0 | L11: ='Phương án'!I384 -> 315000 | M11: =0 -> 0 | N11: ='Phương án'!J395 -> 306157680 | O11: =SUM(J11:N11) -> 921202680 | P11: Không đủ điều kiện bố trí tái định cư
A12: 6 | B12: Hộ ông Nguyễn Quang Thế và bà Lê Thị Hỷ | C12: 204 + 265 + 314 | D12: 11 | E12: ='Phương án'!F447 -> 12915.7 | F12: ='Phương án'!F448 -> 10830.4 | G12: 0 | H12: ='Phương án'!F460 -> 10448.1 | I12: ='Phương án'!F452 -> 382.3 | J12: ='Phương án'!J430 -> 7919659800 | K12: ='Phương án'!I488 -> 3.4715521e+08 | L12: ='Phương án'!I544 -> 1339000 | M12: 0 | N12: ='Phương án'!J568 -> 3394859760 | O12: =SUM(J12:N12) -> 1.1663014e+10 | P12: Không đủ điều kiện bố trí tái định cư
A13: 7 | B13: Hộ ông Nguyễn Tường Huy và bà Nông Hà Thanh Huyền | C13: 244 | D13: 11 | E13: ='Phương án'!F602 -> 4918.8 | F13: ='Phương án'!F603 -> 4705 | G13: 0 | H13: ='Phương án'!F618 -> 4237.9 | I13: ='Phương án'!F613 -> 467.1 | J13: ='Phương án'!J601 -> 3.2123282e+09 | K13: ='Phương án'!I641 -> 1.3681858e+08 | L13: ='Phương án'!I677 -> 886000 | M13: 0 | N13: ='Phương án'!J689 -> 1382754960 | O13: =SUM(J13:N13) -> 4.7327877e+09 | P13: Không đủ điều kiện bố trí tái định cư
A14: 8 | B14: Bà Hàng Thị Thanh Nga | C14: 212 | D14: 45 | E14: ='Phương án'!F722 -> 247.2 | F14: ='Phương án'!F723 -> 247.2 | G14: 0 | H14: ='Phương án'!F745 -> 247.2 | I14: 0 | J14: ='Phương án'!J721 -> 293673600 | K14: ='Phương án'!I750 -> 14767267 | L14: ='Phương án'!I771 -> 1522000 | M14: 0 | N14: ='Phương án'!J790 -> 89768160 | O14: =SUM(J14:N14) -> 3.9973103e+08 | P14: Không đủ điều kiện bố trí tái định cư
A15: 9 | B15: Hộ ông Nguyễn Ninh và bà Nguyễn Thị Thanh Hồng | C15: 326 | D15: 11 | E15: ='Phương án'!F823 -> 5873.7 | F15: ='Phương án'!F824 -> 5873.7 | G15: 0 | H15: ='Phương án'!F835 -> 5368 | I15: ='Phương án'!F829 -> 505.7 | J15: ='Phương án'!J822 -> 4068944000 | K15: ='Phương án'!I862 -> 1.0787717e+09 | L15: ='Phương án'!I901 -> 318000 | M15: 0 | N15: ='Phương án'!J914 -> 1739232000 | O15: =SUM(J15:N15) -> 6.8872657e+09 | P15: Không đủ điều kiện bố trí tái định cư
B16: Tổng | C16: 9 trường hợp / 11 thửa | E16: =SUM(E7:E15) -> 28673.5 | F16: =SUM(F7:F15) -> 26374.4 | G16: 0 | H16: =SUM(H7:H15) -> 24766.2 | I16: =SUM(I7:I15) -> 1608.2 | J16: =SUM(J7:J15) -> 18445970600 | K16: =SUM(K7:K15) -> 1.7160924e+09 | L16: =SUM(L7:L15) -> 60674000 | M16: 0 | N16: =SUM(N7:N15) -> 8091976320 | O16: =SUM(O7:O15) -> 2.8314713e+10
B18: 1/ Số trường hợp bị giải tỏa: | I18: 9 trường hợp/11 thửa đất
B19: 2/ Kinh phí bồi thường, hỗ trợ, tái định cư | H19: =O16 -> 2.8314713e+10 | J19: đồng
B20: 3/ Chi phí thực hiện bồi thường, hỗ trợ (3%): | H20: =H19*3% -> 8.494414e+08 | J20: đồng | K20: =H20*90% -> 7.6449726e+08 | L20: =H20*5% -> 42472070 | M20: =H20*4% -> 33977656 | N20: =H20*1% -> 8494414
B21: 4/ Tổng kinh phí bồi thường, hỗ trợ: | H21: =H19+H20 -> 2.9164155e+10 | J21: đồng
K23: Nam Nha Trang, ngày tháng năm 2026
K24: BAN QUẢN LÝ DỰ ÁN VÀ PHÁT TRIỂN QUỸ ĐẤT
K25: GIÁM ĐỐC
A26: NGƯỜI LẬP PHƯƠNG ÁN
A32: NGUYỄN KHÁNH HƯNG | K32: NGUYỄN HOÀNG LƯƠNG

Sheet Sheet1
A1: PHƯƠNG ÁN BỐ TRÍ TÁI ĐỊNH CƯ
A2: DỰ ÁN KHU ĐÔ THỊ HỖN HỢP THÀNH PHỐ NHA TRANG
N3: Đính kèm Quyết định số /QĐ-UBND ngày / /2026 của Chủ tịch UBND phường Nam Nha Trang
A5: STT | B5: HỌ TÊN VÀ ĐỊA CHỈ | C5: ĐIỀU KIỆN ĐỂ ĐƯỢC BỐ TRÍ TÁI ĐỊNH CƯ | D5: HẠNG MỤC BỐ TRÍ TÁI ĐỊNH CƯ | E5: ĐVT (m2) | F5: DIỆN TÍCH (m2) | G5: ĐƠN GIÁ (đồng) | H5: TIỀN SỬ DỤNG ĐẤT TÁI ĐỊNH CƯ (đồng) | I5: TỔNG SỐ TIỀN ĐƯỢC BỒI THƯỜNG, HỖ TRỢ VỀ ĐẤT (đồng) | J5: HỖ TRỢ TÁI ĐỊNH CƯ (đồng) | K5: GHI CHÚ
A6: (1) | B6: (2) | C6: (3) | D6: (4) | E6: (5) | F6: (6) | G6: (7) | H6: (8) | I6: (9) | J6: (10) | K6: (11)
A7: 1 | B7: Hộ Ông Đặng Văn Sang và bà Bùi Thị Luông | C7: Thu hồi hết đất ở. Hộ gia đình ăn ở, sinh hoạt ổn định tại vị trí giải tỏa và hiện không còn nhà ở, đất ở nào khác trên địa bàn phường Nam Nha Trang. (Theo quy định tại Điểm a Khoản 2 Điều 11 Nghị định số 88/2024/NĐ-CP ngày 15/7/2024 của Chính phủ) | D7: Lô số 36 Ô số 10C, Khu Tái định cư Đất Lành, xã Vĩnh Thái, tiếp giáp đường QH rộng 22,5 m và đường 5,0m | E7: m2 | F7: 84.4 | G7: =G8*1.1 -> 5989500 | H7: =F7*G7 -> 5.055138e+08 | I7: ='Phương án'!#REF! -> #REF! | J7: Không hỗ trợ do giá trị bồi thường về đất lớn hơn giá trị suất tái định cư tối thiểu (Theo quy định tại khoản 8 Điều 111 Luật Đất Đai 2024, Khoản 10 Điều 4 Quyết định số 14/2025/QĐ-UBND ngày 07/8/2025 của UBND tỉnh Khánh Hòa ) | K7: Giá trị suất tái định cư tối thiểu tại Khu tái định cư Mỹ Gia và Khu Tái định Đất Lành: 64 * 2.450.250 = 156.816.000 đồng
C8: Hộ gia đình được xem xét hỗ trợ để giao thêm 01 lô đất ở có thu tiền sử dụng đất do có 17 nhân khẩu ăn ở sinh hoạt tại vị trí thửa đất bị giải tỏa (theo quy định tại khoản 4 Điều 111 Luật Đất đai 2024) | D8: Lô số 35 Ô số 10C, Khu Tái định cư Đất Lành, xã Vĩnh Thái, diện tích 74,8 m², tiếp giáp đường QH rộng 22,5 m. | E8: m2 | F8: 74.8 | G8: 5445000 | H8: =F8*G8 -> 407286000
B9: TỔNG CỘNG | F9: =SUM(F7:F8) -> 159.2 | H9: =SUM(H7:H8) -> 9.127998e+08 | I9: =SUM(I7:I7) -> #REF!
B11: - Tổng số trường hợp tái định cư: 01 trường hợp trong đó:
B12: Tổng số diện tích bố trí tái định cư bằng nhà ở: | G12: 0 | H12: m2
B13: Tổng số diện tích bố trí tái định cư bằng đất ở: | G13: =F9 -> 159.2 | H13: m2
B14: Tổng số tiền hỗ trợ định cư hoặc suất đầu tư hạ tầng: | F14: =J9 -> 0 | H14: đồng | O14: =G8*1.1 -> 5989500
B15: - Tổng số tiền nhà nước hỗ trợ tái định cư: | F15: =F14 -> 0 | H15: đồng
B16: Bằng chữ: Không đồng
E17: Nam Nha Trang, ngày tháng năm 2026
E18: BAN QUẢN LÝ DỰ ÁN VÀ PHÁT TRIỂN QUỸ ĐẤT
B19: Người lập | E19: GIÁM ĐỐC
B23: Nguyễn Khánh Hưng | E23: Nguyễn Hoàng Lương
